BEGIN:VCALENDAR
VERSION:2.0
PRODID:-//IPSS - ECPv6.15.20//NONSGML v1.0//EN
CALSCALE:GREGORIAN
METHOD:PUBLISH
X-ORIGINAL-URL:https://ipss-addis.org
X-WR-CALDESC:Events for IPSS
REFRESH-INTERVAL;VALUE=DURATION:PT1H
X-Robots-Tag:noindex
X-PUBLISHED-TTL:PT1H
BEGIN:VTIMEZONE
TZID:Africa/Addis_Ababa
BEGIN:STANDARD
TZOFFSETFROM:+0300
TZOFFSETTO:+0300
TZNAME:EAT
DTSTART:20250101T000000
END:STANDARD
END:VTIMEZONE
BEGIN:VEVENT
DTSTART;TZID=Africa/Addis_Ababa:20260522T080000
DTEND;TZID=Africa/Addis_Ababa:20260522T170000
DTSTAMP:20260424T190651
CREATED:20260424T091700Z
LAST-MODIFIED:20260424T114529Z
UID:16728-1779436800-1779469200@ipss-addis.org
SUMMARY:War on Iran: Repercussions on the Horn of Africa
DESCRIPTION:
URL:https://ipss-addis.org/event/war-on-iran-repercussions-on-the-horn-of-africa/
CATEGORIES:Breakfast Meeting Series
ATTACH;FMTTYPE=image/jpeg:https://ipss-addis.org/wp-content/uploads/2026/04/IPSS-FES-War-on-Iran-flyer-.jpg
END:VEVENT
BEGIN:VEVENT
DTSTART;TZID=Africa/Addis_Ababa:20260608T080000
DTEND;TZID=Africa/Addis_Ababa:20260608T170000
DTSTAMP:20260424T190651
CREATED:20260421T132753Z
LAST-MODIFIED:20260424T115125Z
UID:16560-1780905600-1780938000@ipss-addis.org
SUMMARY:Critical Minerals\, Energy and Conflict
DESCRIPTION:The Norwegian Centre for Human Rights at the University of Oslo in collaboration with the Institute for Peace and Security Studies (IPSS) is organising a joint workshop under the ARUA-Guild CoRE collaboration on the topic “Critical Minerals\, Energy and Conflict”. Natural resources play a paradoxical role in contemporary conflict dynamics. To have a holistic understanding of conflict while appreciating the role and characteristics of natural resources\, it is important to establish the dynamics and relationship between security and natural resources. The proposed workshop will critically examine the conditions that position critical minerals and energy as a source of conflict\, within conflict economies\, in interstate conflicts and the governance of transnational resources and standards associated with good policy practices.
URL:https://ipss-addis.org/event/critical-minerals-energy-and-conflict/
CATEGORIES:WORKSHOP
ATTACH;FMTTYPE=image/jpeg:https://ipss-addis.org/wp-content/uploads/2026/04/IPSS-Critical-WORKSHOP.jpg
END:VEVENT
BEGIN:VEVENT
DTSTART;TZID=Africa/Addis_Ababa:20260716T080000
DTEND;TZID=Africa/Addis_Ababa:20260716T170000
DTSTAMP:20260424T190651
CREATED:20260421T130328Z
LAST-MODIFIED:20260424T121118Z
UID:16555-1784188800-1784221200@ipss-addis.org
SUMMARY:Ontologies of Peace in  Ethiopian Societies
DESCRIPTION:The Institute for Peace and Security Studies (IPSS) in collaboration with the CoRE on Interdisciplinary Peace is organizing a workshop titled “Ontologies of Peace in Ethiopian Societies”. While conventional research often prioritizes the mechanics of conflict resolution or peacebuilding\, this workshop seeks to explore the deeper philosophical and cultural foundations that underpin how peace is understood and lived. \nTo have a holistic understanding of peace while appreciating the specific characteristics of diverse cultures\, it is important to establish the relationship between societal worldviews and the conceptualization of peace and harmony. This workshop seeks to move beyond exploring the rituals and mechanisms of peacemaking or conflict resolution to examine the “ontologies of peace”\, the fundamental mythos of a given society. Cognizant that an understanding of the rituals\, songs\, artifacts\, stories\, and other material and non-material values associated with the peace making / conflict resolution process are central to the work\, the workshop calls on researchers who critically examine the articulation of “peace” or related concepts such as “reconciliation” through these diverse materials.
URL:https://ipss-addis.org/event/ontologies-of-peace-in-ethiopian-societies/
CATEGORIES:WORKSHOP
ATTACH;FMTTYPE=image/jpeg:https://ipss-addis.org/wp-content/uploads/2026/04/IPSS-Ontologies-WORKSHOP.jpg
END:VEVENT
END:VCALENDAR