BEGIN:VCALENDAR
VERSION:2.0
PRODID:-//IPSS - ECPv6.15.20//NONSGML v1.0//EN
CALSCALE:GREGORIAN
METHOD:PUBLISH
X-ORIGINAL-URL:https://ipss-addis.org
X-WR-CALDESC:Events for IPSS
REFRESH-INTERVAL;VALUE=DURATION:PT1H
X-Robots-Tag:noindex
X-PUBLISHED-TTL:PT1H
BEGIN:VTIMEZONE
TZID:Africa/Addis_Ababa
BEGIN:STANDARD
TZOFFSETFROM:+0300
TZOFFSETTO:+0300
TZNAME:EAT
DTSTART:20250101T000000
END:STANDARD
END:VTIMEZONE
BEGIN:VEVENT
DTSTART;TZID=Africa/Addis_Ababa:20260522T080000
DTEND;TZID=Africa/Addis_Ababa:20260522T170000
DTSTAMP:20260424T172140
CREATED:20260424T091700Z
LAST-MODIFIED:20260424T114529Z
UID:16728-1779436800-1779469200@ipss-addis.org
SUMMARY:War on Iran: Repercussions on the Horn of Africa
DESCRIPTION:
URL:https://ipss-addis.org/event/war-on-iran-repercussions-on-the-horn-of-africa/
CATEGORIES:Breakfast Meeting Series
ATTACH;FMTTYPE=image/jpeg:https://ipss-addis.org/wp-content/uploads/2026/04/IPSS-FES-War-on-Iran-flyer-.jpg
END:VEVENT
END:VCALENDAR