BEGIN:VCALENDAR
VERSION:2.0
PRODID:-//IPSS - ECPv6.15.20//NONSGML v1.0//EN
CALSCALE:GREGORIAN
METHOD:PUBLISH
X-WR-CALNAME:IPSS
X-ORIGINAL-URL:https://ipss-addis.org
X-WR-CALDESC:Events for IPSS
REFRESH-INTERVAL;VALUE=DURATION:PT1H
X-Robots-Tag:noindex
X-PUBLISHED-TTL:PT1H
BEGIN:VTIMEZONE
TZID:Africa/Addis_Ababa
BEGIN:STANDARD
TZOFFSETFROM:+0300
TZOFFSETTO:+0300
TZNAME:EAT
DTSTART:20200101T000000
END:STANDARD
END:VTIMEZONE
BEGIN:VEVENT
DTSTART;TZID=Africa/Addis_Ababa:20210216T150000
DTEND;TZID=Africa/Addis_Ababa:20210216T170000
DTSTAMP:20260420T045042
CREATED:20210210T071942Z
LAST-MODIFIED:20210426T070256Z
UID:9605-1613487600-1613494800@ipss-addis.org
SUMMARY:Seminar on Is the new AU Commission fit for purpose?
DESCRIPTION:Click Here to Download – Concept Note |  Flyer \nVenue: Online via Zoom\, registration required \nAfter the African Union (AU) summit on 6-7 February\, expectations are high that the continental body will perform better in the coming years. A new AU Commission with recently elected leaders is expected to take over. This coincides with a change in the rotating chair of the AU as the Democratic Republic of the Congo (DRC) replaces South Africa for 2021. \nThis seminar considers the AU’s priorities in 2021 and whether the restructuring of the AU Commission can enable more effective responses to Africa’s challenges. This event is co-hosted by the ISS and the Institute for Peace and Security Studies (IPSS). Simultaneous English-French interpretation will be provided.
URL:https://ipss-addis.org/event/seminar-on-is-the-new-au-commission-fit-for-purpose/
CATEGORIES:Seminar
ATTACH;FMTTYPE=image/jpeg:https://ipss-addis.org/wp-content/uploads/2021/02/Post-AU-Summit-Webinar.jpg
END:VEVENT
END:VCALENDAR