BEGIN:VCALENDAR
VERSION:2.0
PRODID:-//IPSS - ECPv6.15.20//NONSGML v1.0//EN
CALSCALE:GREGORIAN
METHOD:PUBLISH
X-WR-CALNAME:IPSS
X-ORIGINAL-URL:https://ipss-addis.org
X-WR-CALDESC:Events for IPSS
REFRESH-INTERVAL;VALUE=DURATION:PT1H
X-Robots-Tag:noindex
X-PUBLISHED-TTL:PT1H
BEGIN:VTIMEZONE
TZID:Africa/Nairobi
BEGIN:STANDARD
TZOFFSETFROM:+0300
TZOFFSETTO:+0300
TZNAME:EAT
DTSTART:20220101T000000
END:STANDARD
END:VTIMEZONE
BEGIN:VEVENT
DTSTART;TZID=Africa/Nairobi:20230308T090000
DTEND;TZID=Africa/Nairobi:20230308T140000
DTSTAMP:20260425T034726
CREATED:20230224T113819Z
LAST-MODIFIED:20230705T123433Z
UID:13454-1678266000-1678284000@ipss-addis.org
SUMMARY:IWD 2023 - Forging women’s equality through Embracing Equity
DESCRIPTION:Download:  Concept Note \nInternational Women’s Day (IWD) is celebrated annually to highlight the achievements of women\, raise awareness about existing gender inequalities\, and challenge and act towards gender equality. This year’s theme of IWD is #EmbraceEquity. This theme highlights the fact that we do not all start from the same place\, and as such\, we must acknowledge and make adjustments to these imbalances through fairness and justice when it comes to achieving gender equality. The Institute for Peace and Security Studies (IPSS)\, Cordaid\, the Embassy of the Kingdom of the Netherlands\, and its partners are committed to supporting the journey towards a gender-equal world. Through our work and engagements\, we support and implement gender transformative and equitable approaches that create opportunities for individuals and communities to challenge harmful gender norms\, promote positions of social and political influence and (economic) empowerment for women in communities\, and address power inequities that exist between persons of different genders. We also seek to raise awareness of our achievements and lessons learned in this regard\, including the achievements of women and the challenges they still face. We seek to make an impact through collective action and shared ownership to continuously drive gender parity.
URL:https://ipss-addis.org/event/iwd-2023-forging-womens-equality-through-embracing-equity/
LOCATION:Embassy of the Kingdom of the Netherlands\, Addis Ababa\, Ethiopia\, Embassy of the Netherlands\, Addis Ababa\, Addis Ababa\, Ethiopia
CATEGORIES:Joint Event
ATTACH;FMTTYPE=image/jpeg:https://ipss-addis.org/wp-content/uploads/2023/02/MicrosoftTeams-image-26.jpg
END:VEVENT
END:VCALENDAR