BEGIN:VCALENDAR
VERSION:2.0
PRODID:-//IPSS - ECPv6.15.20//NONSGML v1.0//EN
CALSCALE:GREGORIAN
METHOD:PUBLISH
X-WR-CALNAME:IPSS
X-ORIGINAL-URL:https://ipss-addis.org
X-WR-CALDESC:Events for IPSS
REFRESH-INTERVAL;VALUE=DURATION:PT1H
X-Robots-Tag:noindex
X-PUBLISHED-TTL:PT1H
BEGIN:VTIMEZONE
TZID:Africa/Nairobi
BEGIN:STANDARD
TZOFFSETFROM:+0300
TZOFFSETTO:+0300
TZNAME:EAT
DTSTART:20250101T000000
END:STANDARD
END:VTIMEZONE
BEGIN:VEVENT
DTSTART;TZID=Africa/Nairobi:20260211T083000
DTEND;TZID=Africa/Nairobi:20260211T120000
DTSTAMP:20260425T002252
CREATED:20260209T114855Z
LAST-MODIFIED:20260209T115539Z
UID:15875-1770798600-1770811200@ipss-addis.org
SUMMARY:Forces for Peace: Realities of Peace Support Operations in Africa
DESCRIPTION:Download: Concept Note \nThe Institute for Peace and Security Studies (IPSS) of Addis Ababa University and FES are partnering to organise a High Level Dialogue on the margins of the 39th AU Summit on “Forces for Peace: Realities of Peace Support Operations in Africa” on 11 February 2026 at the Hyatt Regency\, Addis Ababa from 8:30 a.m. until 12:00. The dialogue is centered on a new publication and aims to provide a high-level platform for policy dialogue on the current challenges in African Peace Support Operations (PSOs)\, including funding (Resolution 2719) and accountability\, to inform decisions and practices of policymakers\, practitioners\, and other stakeholders in the context of the 39th AU Summit.
URL:https://ipss-addis.org/event/forces-for-peace-realities-of-peace-support-operations-in-africa/
LOCATION:Hyatt Regency Hotel\, Addis Ababa\, Ethiopia
CATEGORIES:High Level Dialogue
ATTACH;FMTTYPE=image/jpeg:https://ipss-addis.org/wp-content/uploads/2026/02/Flyer-draft.jpg
END:VEVENT
END:VCALENDAR