BEGIN:VCALENDAR
VERSION:2.0
PRODID:-//IPSS - ECPv6.15.20//NONSGML v1.0//EN
CALSCALE:GREGORIAN
METHOD:PUBLISH
X-WR-CALNAME:IPSS
X-ORIGINAL-URL:https://ipss-addis.org
X-WR-CALDESC:Events for IPSS
REFRESH-INTERVAL;VALUE=DURATION:PT1H
X-Robots-Tag:noindex
X-PUBLISHED-TTL:PT1H
BEGIN:VTIMEZONE
TZID:Africa/Addis_Ababa
BEGIN:STANDARD
TZOFFSETFROM:+0300
TZOFFSETTO:+0300
TZNAME:EAT
DTSTART:20200101T000000
END:STANDARD
END:VTIMEZONE
BEGIN:VEVENT
DTSTART;TZID=Africa/Addis_Ababa:20210226T100000
DTEND;TZID=Africa/Addis_Ababa:20210226T180000
DTSTAMP:20260420T000817
CREATED:20210220T080310Z
LAST-MODIFIED:20210428T102414Z
UID:10102-1614333600-1614362400@ipss-addis.org
SUMMARY:CSOs in Peace and Security Agenda of Africa
DESCRIPTION:Click here to download    Concept Note | Agenda \nVenue: Online via KUDO\, Register here \nEver since the late 1980s\, CSOs have emerged as key players in the effort to prevent\, mitigate and resolve conflicts in Africa. The pressure from the public witnessed on the continent occurring along with and partly in response to changes happening in other parts of the world subsequent to the end of Cold War leading to a significant opening up of the political space in many parts of the continent played a major role in this aspect. The AU’s foundational documents\, especially the Constitutive Act of the African Union (2001)\, the Protocol Relating to the Establishment of the Peace and Security Council (PSC) of the African Union (2002) and the Statutes of the Economic\, Social and Cultural Council (ECOSOCC)\, provide ample space for the meaningful participation by African civil society organizations in promoting peace\, security and stability in Africa. For instance\, the Protocol Establishing the Peace and Security Council and the associated rules of procedure of the PSC envisage a greater role of African civil society in supplementing its capacity in the field of conflict prevention. The Constitutive Act of the African Union (2001) argues for the participation of the African peoples in the activities of the Union and stresses on the importance of building a partnership between governments and all sectors of civil society and cultivate the culture of participation of the African peoples in the activities of the Union. The Protocol Establishing the Peace and Security Council of the African Union (2002) under article 20 also states that the Peace and Security Council should encourage all sectors of civil society organizations especially women’s organizations\, to take active roles in initiatives that are directed towards promoting peace\, security and stability in Africa. It further states that such organizations may also be invited to address the Peace and Security Council when required.
URL:https://ipss-addis.org/event/csos-in-peace-and-security-agenda-of-africa/
CATEGORIES:Virtual Briefing Session
ATTACH;FMTTYPE=image/jpeg:https://ipss-addis.org/wp-content/uploads/2021/02/IPSS-Event-CSOs-in-Peace-and-Security-Agenda-of-Africa-100-100.jpg
END:VEVENT
END:VCALENDAR